BEGIN:VCALENDAR
VERSION:2.0
PRODID:icalendar-ruby
CALSCALE:GREGORIAN
METHOD:PUBLISH
BEGIN:VEVENT
DTSTAMP:20260421T133219Z
UID:14-342147@standumc.org
DTSTART:20261025T143000Z
DTEND:20261025T153000Z
CLASS:PUBLIC
CREATED:20260421T072342
DESCRIPTION:
LAST-MODIFIED:20260421T072342
LOCATION:Fowler Hall
SUMMARY:Adult Sunday School
URL;VALUE=URI:https://standumc.org/events/adult-sunday-school/2026-10-25
END:VEVENT
END:VCALENDAR
